BEGIN:VCALENDAR
VERSION:2.0
PRODID:-//Norkirken Nedenes - ECPv4.6.26.2//NONSGML v1.0//EN
CALSCALE:GREGORIAN
METHOD:PUBLISH
X-WR-CALNAME:Norkirken Nedenes
X-ORIGINAL-URL:https://nedenes.normisjon.no
X-WR-CALDESC:Events for Norkirken Nedenes
BEGIN:VEVENT
DTSTART;TZID=Europe/Oslo:20260503T110000
DTEND;TZID=Europe/Oslo:20260503T130000
DTSTAMP:20260424T134311
CREATED:20260423T170026Z
LAST-MODIFIED:20260423T170054Z
UID:10041-1777806000-1777813200@nedenes.normisjon.no
SUMMARY:Gudstjeneste og barnekirke
DESCRIPTION:Velkommen til gudstjeneste og barnekirke søndag kl.11.\nArne Inge Vålandsmyr taler og Geir Ivar Bjerkestrand har det musikalske ansvaret.\nDet er Cubbies for de minste og Sparks oppe på loftet for skolebarna.\nKirkelunsj etter gudstjenesten.\nVel møtt!\n
URL:https://nedenes.normisjon.no/event/10041/
CATEGORIES:Alle aktiviteter,Gudstjeneste,Gudstjeneste og barnekirke
ATTACH;FMTTYPE=image/png:https://nedenes.normisjon.no/content/uploads/sites/20/2025/04/NKN-Facebook.png
END:VEVENT
END:VCALENDAR