BEGIN:VCALENDAR
VERSION:2.0
PRODID:-//Norkirken Nedenes - ECPv4.6.26.2//NONSGML v1.0//EN
CALSCALE:GREGORIAN
METHOD:PUBLISH
X-WR-CALNAME:Norkirken Nedenes
X-ORIGINAL-URL:https://nedenes.normisjon.no
X-WR-CALDESC:Events for Norkirken Nedenes
BEGIN:VEVENT
DTSTART;TZID=Europe/Oslo:20241023T193000
DTEND;TZID=Europe/Oslo:20241023T213000
DTSTAMP:20260420T065554
CREATED:20241009T082430Z
LAST-MODIFIED:20241009T082859Z
UID:9035-1729711800-1729719000@nedenes.normisjon.no
SUMMARY:7 Up 7. - 8. klasse
DESCRIPTION:Velkommen til 7 up onsdag kl.1930-21.30. \n7UP er Norkirken Nedenes sitt tilbud for 7. og 8. trinn. Vi møtes ca annenhver onsdag og alle er velkommen! Det blir andakt\, aktiviteter\, konkurranser\, mat/snacks.Ta med deg en venn og kom! \n  \n
URL:https://nedenes.normisjon.no/event/7-up-7-8-klasse-2024-10-09/2024-10-23/
CATEGORIES:Alle aktiviteter,Barn og unge
ATTACH;FMTTYPE=image/png:https://nedenes.normisjon.no/content/uploads/sites/20/2024/10/7UP-Klubbkveld-for-7.-trinn.png
END:VEVENT
END:VCALENDAR