BEGIN:VCALENDAR
VERSION:2.0
PRODID:-//Norkirken Nedenes - ECPv4.6.26.2//NONSGML v1.0//EN
CALSCALE:GREGORIAN
METHOD:PUBLISH
X-WR-CALNAME:Norkirken Nedenes
X-ORIGINAL-URL:https://nedenes.normisjon.no
X-WR-CALDESC:Events for Norkirken Nedenes
BEGIN:VEVENT
DTSTART;TZID=Europe/Oslo:20240905T090000
DTEND;TZID=Europe/Oslo:20240905T140000
DTSTAMP:20260420T045808
CREATED:20240822T071245Z
LAST-MODIFIED:20240822T072526Z
UID:8855-1725526800-1725544800@nedenes.normisjon.no
SUMMARY:Åpen barnehage
DESCRIPTION: \n
URL:https://nedenes.normisjon.no/event/apen-barnehage/2024-09-05/
CATEGORIES:Barn og unge,Familiefokus
END:VEVENT
END:VCALENDAR