BEGIN:VCALENDAR
VERSION:2.0
PRODID:-//Norkirken Nedenes - ECPv4.6.26.2//NONSGML v1.0//EN
CALSCALE:GREGORIAN
METHOD:PUBLISH
X-WR-CALNAME:Norkirken Nedenes
X-ORIGINAL-URL:https://nedenes.normisjon.no
X-WR-CALDESC:Events for Norkirken Nedenes
BEGIN:VEVENT
DTSTART;TZID=Europe/Oslo:20241107T090000
DTEND;TZID=Europe/Oslo:20241107T140000
DTSTAMP:20260420T071143
CREATED:20240822T071245Z
LAST-MODIFIED:20240822T072531Z
UID:8871-1730970000-1730988000@nedenes.normisjon.no
SUMMARY:Åpen barnehage
DESCRIPTION: \n
URL:https://nedenes.normisjon.no/event/apen-barnehage/2024-11-07/
CATEGORIES:Barn og unge,Familiefokus
END:VEVENT
END:VCALENDAR