BEGIN:VCALENDAR
VERSION:2.0
PRODID:-//Norkirken Nedenes - ECPv4.6.26.2//NONSGML v1.0//EN
CALSCALE:GREGORIAN
METHOD:PUBLISH
X-WR-CALNAME:Norkirken Nedenes
X-ORIGINAL-URL:https://nedenes.normisjon.no
X-WR-CALDESC:Events for Norkirken Nedenes
BEGIN:VEVENT
DTSTART;TZID=Europe/Oslo:20241110T110000
DTEND;TZID=Europe/Oslo:20241110T130000
DTSTAMP:20260422T090214
CREATED:20240815T122724Z
LAST-MODIFIED:20241009T102036Z
UID:8774-1731236400-1731243600@nedenes.normisjon.no
SUMMARY:Gudstjeneste (Barnekirken har utflukt til Norkirken Grimstad)
DESCRIPTION:Vel møtt til gudstjeneste kl.11.00. \nDenne søndagen drar Barnekirken på besøk til Norkirken Grimstad på Soul Church kl.11.00. Så håper mange har lyst til å være med. \nDet er selvfølgelig åpent for barn på Nedenes også\, lekerommet nede kan brukes og det er tegnesaker i lillesalen. \nKirkelunsj etterpå. \n
URL:https://nedenes.normisjon.no/event/gudstjeneste-og-barnekirke-4-2024-11-03/
CATEGORIES:Barn og unge,Gudstjeneste,Gudstjeneste og barnekirke
ATTACH;FMTTYPE=image/png:https://nedenes.normisjon.no/content/uploads/sites/20/2023/08/barnekirkegudstjeneste.png
END:VEVENT
END:VCALENDAR