BEGIN:VCALENDAR
VERSION:2.0
PRODID:-//Norkirken Nedenes - ECPv4.6.26.2//NONSGML v1.0//EN
CALSCALE:GREGORIAN
METHOD:PUBLISH
X-WR-CALNAME:Norkirken Nedenes
X-ORIGINAL-URL:https://nedenes.normisjon.no
X-WR-CALDESC:Events for Norkirken Nedenes
BEGIN:VEVENT
DTSTART;TZID=Europe/Oslo:20241013T110000
DTEND;TZID=Europe/Oslo:20241013T130000
DTSTAMP:20260420T065107
CREATED:20240815T125321Z
LAST-MODIFIED:20240815T125321Z
UID:8785-1728817200-1728824400@nedenes.normisjon.no
SUMMARY:Gudstjeneste og barnekirke
DESCRIPTION:Vel møtt til gudstjeneste og barnekirke kl.11.00. \nKirkelunsj etterpå. \n
URL:https://nedenes.normisjon.no/event/gudstjeneste-og-barnekirke-5/
CATEGORIES:Barn og unge,Gudstjeneste
ATTACH;FMTTYPE=image/png:https://nedenes.normisjon.no/content/uploads/sites/20/2023/08/barnekirkegudstjeneste.png
END:VEVENT
END:VCALENDAR