BEGIN:VCALENDAR
VERSION:2.0
PRODID:-//Norkirken Nedenes - ECPv4.6.26.2//NONSGML v1.0//EN
CALSCALE:GREGORIAN
METHOD:PUBLISH
X-WR-CALNAME:Norkirken Nedenes
X-ORIGINAL-URL:https://nedenes.normisjon.no
X-WR-CALDESC:Events for Norkirken Nedenes
BEGIN:VEVENT
DTSTART;TZID=Europe/Oslo:20240823T173000
DTEND;TZID=Europe/Oslo:20240825T130000
DTSTAMP:20260420T045337
CREATED:20240804T093856Z
LAST-MODIFIED:20240820T191832Z
UID:8593-1724434200-1724590800@nedenes.normisjon.no
SUMMARY:«Hjemme-weekend»
DESCRIPTION:Bli med på en helg med menigheten på Nedenes helgen 23.-25.-aug. \n \n
URL:https://nedenes.normisjon.no/event/hjemme-weekend/
CATEGORIES:Alle aktiviteter
ATTACH;FMTTYPE=image/png:https://nedenes.normisjon.no/content/uploads/sites/20/2022/05/F20A185E-8F17-41CC-BC16-4CB6040813AD-e1653560350126.png
END:VEVENT
END:VCALENDAR