BEGIN:VCALENDAR
VERSION:2.0
PRODID:-//Norkirken Nedenes - ECPv4.6.26.2//NONSGML v1.0//EN
CALSCALE:GREGORIAN
METHOD:PUBLISH
X-WR-CALNAME:Norkirken Nedenes
X-ORIGINAL-URL:https://nedenes.normisjon.no
X-WR-CALDESC:Events for Norkirken Nedenes
BEGIN:VEVENT
DTSTART;TZID=Europe/Oslo:20241224T150000
DTEND;TZID=Europe/Oslo:20241224T160000
DTSTAMP:20260419T212822
CREATED:20240815T125513Z
LAST-MODIFIED:20240815T125537Z
UID:8787-1735052400-1735056000@nedenes.normisjon.no
SUMMARY:Juleaften-gudstjeneste
DESCRIPTION:Velkommen til gudstjeneste på juleaften kl. 15. \nVel møtt! \n
URL:https://nedenes.normisjon.no/event/juleaften-gudstjeneste/
CATEGORIES:Gudstjeneste
ATTACH;FMTTYPE=image/jpeg:https://nedenes.normisjon.no/content/uploads/sites/20/2020/12/6AFB8A0C-BFD7-4A69-84B3-CB93CCE76203.jpeg
END:VEVENT
END:VCALENDAR