BEGIN:VCALENDAR
VERSION:2.0
PRODID:-//Norkirken Nedenes - ECPv4.6.26.2//NONSGML v1.0//EN
CALSCALE:GREGORIAN
METHOD:PUBLISH
X-WR-CALNAME:Norkirken Nedenes
X-ORIGINAL-URL:https://nedenes.normisjon.no
X-WR-CALDESC:Events for Norkirken Nedenes
BEGIN:VEVENT
DTSTART;TZID=Europe/Oslo:20250803T110000
DTEND;TZID=Europe/Oslo:20250803T123000
DTSTAMP:20260419T151424
CREATED:20250613T093049Z
LAST-MODIFIED:20250616T100521Z
UID:9386-1754218800-1754224200@nedenes.normisjon.no
SUMMARY:Sommergudstjeneste
DESCRIPTION: \n
URL:https://nedenes.normisjon.no/event/sommergudstjeneste-10/2025-08-03/
END:VEVENT
END:VCALENDAR