BEGIN:VCALENDAR
VERSION:2.0
PRODID:-//Norkirken Nedenes - ECPv4.6.26.2//NONSGML v1.0//EN
CALSCALE:GREGORIAN
METHOD:PUBLISH
X-WR-CALNAME:Norkirken Nedenes
X-ORIGINAL-URL:https://nedenes.normisjon.no
X-WR-CALDESC:Events for Norkirken Nedenes
BEGIN:VEVENT
DTSTART;TZID=Europe/Oslo:20250824T120000
DTEND;TZID=Europe/Oslo:20250824T133000
DTSTAMP:20260419T165858
CREATED:20250613T121346Z
LAST-MODIFIED:20250820T072914Z
UID:9406-1756036800-1756042200@nedenes.normisjon.no
SUMMARY:Tur til Tjenna m/Betel og Øyestad OBSOBS Kl.12.00!
DESCRIPTION:Vi deltar på gudstjeneste på Tjenna i samarbeid med Øyestad og Betel kl.12. \nHar du problemer med å komme deg til Tjenna går det felles transport fra Norkirken Nedenes kl.11.15. \nVelkommen til en fin gudstjeneste ute i guds frie natur! \n
URL:https://nedenes.normisjon.no/event/tur-til-tjenna-m-betel-og-oyestad/
ATTACH;FMTTYPE=image/jpeg:https://nedenes.normisjon.no/content/uploads/sites/20/2025/06/Book-719x495-1.jpg
END:VEVENT
END:VCALENDAR